BEGIN:VCALENDAR
VERSION:2.0
PRODID:-//Squarespace Inc/Squarespace 6//v6//EN
BEGIN:VEVENT
UID:60a4424459fb433826e0fd0b@squarespace.com
DTSTAMP:20210518T224127Z
DTSTART:20210602T000000Z
DTEND:20210602T010000Z
SUMMARY:CASALS FESTIVAL CONCERT #4
END:VEVENT
END:VCALENDAR
