BEGIN:VCALENDAR
VERSION:2.0
PRODID:-//Squarespace Inc/Squarespace 6//v6//EN
BEGIN:VEVENT
UID:60a44211064ee75be0aa3fbf@squarespace.com
DTSTAMP:20210518T224146Z
DTSTART:20210601T000000Z
DTEND:20210601T010000Z
SUMMARY:CASALS FESTIVAL CONCERT #3
END:VEVENT
END:VCALENDAR
