BEGIN:VCALENDAR
VERSION:2.0
PRODID:-//Squarespace Inc/Squarespace 6//v6//EN
BEGIN:VEVENT
UID:60a441c625c8aa6d5b393c53@squarespace.com
DTSTAMP:20210518T223908Z
DTSTART:20210531T000000Z
DTEND:20210531T010000Z
SUMMARY:CASALS FESTIVAL CONCERT #2
END:VEVENT
END:VCALENDAR
