BEGIN:VCALENDAR
VERSION:2.0
PRODID:-//Squarespace Inc/Squarespace 6//v6//EN
BEGIN:VEVENT
UID:60a441814157ab11158d1694@squarespace.com
DTSTAMP:20210518T223755Z
DTSTART:20210530T000000Z
DTEND:20210530T010000Z
SUMMARY:CASALS FESTIVAL CONCERT #1
END:VEVENT
END:VCALENDAR
